BEGIN:VCALENDAR
VERSION:2.0
PRODID:-//Plantrella - ECPv6.15.20//NONSGML v1.0//EN
CALSCALE:GREGORIAN
METHOD:PUBLISH
X-ORIGINAL-URL:https://plantrella.com
X-WR-CALDESC:Events for Plantrella
REFRESH-INTERVAL;VALUE=DURATION:PT1H
X-Robots-Tag:noindex
X-PUBLISHED-TTL:PT1H
BEGIN:VTIMEZONE
TZID:Europe/London
BEGIN:DAYLIGHT
TZOFFSETFROM:+0000
TZOFFSETTO:+0100
TZNAME:BST
DTSTART:20250330T010000
END:DAYLIGHT
BEGIN:STANDARD
TZOFFSETFROM:+0100
TZOFFSETTO:+0000
TZNAME:GMT
DTSTART:20251026T010000
END:STANDARD
BEGIN:DAYLIGHT
TZOFFSETFROM:+0000
TZOFFSETTO:+0100
TZNAME:BST
DTSTART:20260329T010000
END:DAYLIGHT
BEGIN:STANDARD
TZOFFSETFROM:+0100
TZOFFSETTO:+0000
TZNAME:GMT
DTSTART:20261025T010000
END:STANDARD
BEGIN:DAYLIGHT
TZOFFSETFROM:+0000
TZOFFSETTO:+0100
TZNAME:BST
DTSTART:20270328T010000
END:DAYLIGHT
BEGIN:STANDARD
TZOFFSETFROM:+0100
TZOFFSETTO:+0000
TZNAME:GMT
DTSTART:20271031T010000
END:STANDARD
END:VTIMEZONE
BEGIN:VEVENT
DTSTART;TZID=Europe/London:20260619T100000
DTEND;TZID=Europe/London:20260621T170000
DTSTAMP:20260421T174647
CREATED:20251007T152715Z
LAST-MODIFIED:20251007T152715Z
UID:4460-1781863200-1782061200@plantrella.com
SUMMARY:Blenheim Palace Flower Show 2026
DESCRIPTION:Held in the UNESCO-listed grounds\, the Blenheim Palace Flower Show blends heritage with horticulture\, featuring plant sellers\, demonstrations\, and designer displays.
URL:https://plantrella.com/garden-event/blenheim-palace-flower-show-2026/
LOCATION:Blenheim Palace\, Woodstock\, Woodstock\, Oxfordshire\, OX20 1PP\, UK
CATEGORIES:Garden Events
END:VEVENT
END:VCALENDAR