BEGIN:VCALENDAR
VERSION:2.0
PRODID:-//Plantrella - ECPv6.15.20//NONSGML v1.0//EN
CALSCALE:GREGORIAN
METHOD:PUBLISH
X-WR-CALNAME:Plantrella
X-ORIGINAL-URL:https://plantrella.com
X-WR-CALDESC:Events for Plantrella
REFRESH-INTERVAL;VALUE=DURATION:PT1H
X-Robots-Tag:noindex
X-PUBLISHED-TTL:PT1H
BEGIN:VTIMEZONE
TZID:UTC
BEGIN:STANDARD
TZOFFSETFROM:+0000
TZOFFSETTO:+0000
TZNAME:UTC
DTSTART:20240101T000000
END:STANDARD
END:VTIMEZONE
BEGIN:VEVENT
DTSTART;TZID=UTC:20250927T090000
DTEND;TZID=UTC:20250929T180000
DTSTAMP:20260423T105818
CREATED:20251006T143114Z
LAST-MODIFIED:20251006T143144Z
UID:4400-1758963600-1759168800@plantrella.com
SUMMARY:Malvern Autumn Show
DESCRIPTION:The Malvern Autumn Show celebrates seasonal produce\, gardening\, and family entertainment with exhibits\, food stalls\, and crafts in the Malvern Hills.
URL:https://plantrella.com/garden-event/malvern-autumn-show-2/
LOCATION:Three Counties Showground\, Malvern Wells\, Malvern\, Worcestershire\, WR13 6NW\, UK
CATEGORIES:Garden Events
END:VEVENT
END:VCALENDAR