BEGIN:VCALENDAR
VERSION:2.0
PRODID:-//Plantrella - ECPv6.15.20//NONSGML v1.0//EN
CALSCALE:GREGORIAN
METHOD:PUBLISH
X-WR-CALNAME:Plantrella
X-ORIGINAL-URL:https://plantrella.com
X-WR-CALDESC:Events for Plantrella
REFRESH-INTERVAL;VALUE=DURATION:PT1H
X-Robots-Tag:noindex
X-PUBLISHED-TTL:PT1H
BEGIN:VTIMEZONE
TZID:UTC
BEGIN:STANDARD
TZOFFSETFROM:+0000
TZOFFSETTO:+0000
TZNAME:UTC
DTSTART:20240101T000000
END:STANDARD
END:VTIMEZONE
BEGIN:VEVENT
DTSTART;TZID=UTC:20250207T100000
DTEND;TZID=UTC:20250308T170000
DTSTAMP:20260422T014913
CREATED:20251006T140321Z
LAST-MODIFIED:20251006T143102Z
UID:4361-1738922400-1741453200@plantrella.com
SUMMARY:Kew Orchid Festival
DESCRIPTION:Kew Gardens’ Orchid Festival celebrates the diversity of tropical flora inside the Princess of Wales Conservatory\, featuring elaborate floral sculptures and cultural displays.
URL:https://plantrella.com/garden-event/kew-orchid-festival/
LOCATION:Royal Botanic Gardens\, Kew\, Kew Green\, Richmond\, London\, TW9 3AE\, UK
CATEGORIES:Garden Events
END:VEVENT
END:VCALENDAR