BEGIN:VCALENDAR
VERSION:2.0
PRODID:-//Plantrella - ECPv6.15.20//NONSGML v1.0//EN
CALSCALE:GREGORIAN
METHOD:PUBLISH
X-WR-CALNAME:Plantrella
X-ORIGINAL-URL:https://plantrella.com
X-WR-CALDESC:Events for Plantrella
REFRESH-INTERVAL;VALUE=DURATION:PT1H
X-Robots-Tag:noindex
X-PUBLISHED-TTL:PT1H
BEGIN:VTIMEZONE
TZID:America/Chicago
BEGIN:DAYLIGHT
TZOFFSETFROM:-0600
TZOFFSETTO:-0500
TZNAME:CDT
DTSTART:20250309T080000
END:DAYLIGHT
BEGIN:STANDARD
TZOFFSETFROM:-0500
TZOFFSETTO:-0600
TZNAME:CST
DTSTART:20251102T070000
END:STANDARD
BEGIN:DAYLIGHT
TZOFFSETFROM:-0600
TZOFFSETTO:-0500
TZNAME:CDT
DTSTART:20260308T080000
END:DAYLIGHT
BEGIN:STANDARD
TZOFFSETFROM:-0500
TZOFFSETTO:-0600
TZNAME:CST
DTSTART:20261101T070000
END:STANDARD
BEGIN:DAYLIGHT
TZOFFSETFROM:-0600
TZOFFSETTO:-0500
TZNAME:CDT
DTSTART:20270314T080000
END:DAYLIGHT
BEGIN:STANDARD
TZOFFSETFROM:-0500
TZOFFSETTO:-0600
TZNAME:CST
DTSTART:20271107T070000
END:STANDARD
END:VTIMEZONE
BEGIN:VEVENT
DTSTART;TZID=America/Chicago:20260915T090000
DTEND;TZID=America/Chicago:20261102T180000
DTSTAMP:20260422T020418
CREATED:20251007T153038Z
LAST-MODIFIED:20251007T153142Z
UID:4472-1789462800-1793642400@plantrella.com
SUMMARY:Autumn at the Arboretum 2026
DESCRIPTION:A vibrant fall festival with thousands of pumpkins and seasonal plantings across lakeside gardens — great for families\, photos and outdoor inspiration.
URL:https://plantrella.com/garden-event/autumn-at-the-arboretum-2026/
LOCATION:Dallas Arboretum & Botanical Garden\, 8525 Garland Rd\, Dallas\, TX\, 75218\, USA
CATEGORIES:Garden Events
END:VEVENT
END:VCALENDAR