BEGIN:VCALENDAR
VERSION:2.0
PRODID:-//Plantrella - ECPv6.15.20//NONSGML v1.0//EN
CALSCALE:GREGORIAN
METHOD:PUBLISH
X-WR-CALNAME:Plantrella
X-ORIGINAL-URL:https://plantrella.com
X-WR-CALDESC:Events for Plantrella
REFRESH-INTERVAL;VALUE=DURATION:PT1H
X-Robots-Tag:noindex
X-PUBLISHED-TTL:PT1H
BEGIN:VTIMEZONE
TZID:Europe/London
BEGIN:DAYLIGHT
TZOFFSETFROM:+0000
TZOFFSETTO:+0100
TZNAME:BST
DTSTART:20250330T010000
END:DAYLIGHT
BEGIN:STANDARD
TZOFFSETFROM:+0100
TZOFFSETTO:+0000
TZNAME:GMT
DTSTART:20251026T010000
END:STANDARD
BEGIN:DAYLIGHT
TZOFFSETFROM:+0000
TZOFFSETTO:+0100
TZNAME:BST
DTSTART:20260329T010000
END:DAYLIGHT
BEGIN:STANDARD
TZOFFSETFROM:+0100
TZOFFSETTO:+0000
TZNAME:GMT
DTSTART:20261025T010000
END:STANDARD
BEGIN:DAYLIGHT
TZOFFSETFROM:+0000
TZOFFSETTO:+0100
TZNAME:BST
DTSTART:20270328T010000
END:DAYLIGHT
BEGIN:STANDARD
TZOFFSETFROM:+0100
TZOFFSETTO:+0000
TZNAME:GMT
DTSTART:20271031T010000
END:STANDARD
END:VTIMEZONE
BEGIN:VEVENT
DTSTART;TZID=Europe/London:20260519T080000
DTEND;TZID=Europe/London:20260523T173000
DTSTAMP:20260421T145127
CREATED:20251007T152708Z
LAST-MODIFIED:20251008T161703Z
UID:4457-1779177600-1779557400@plantrella.com
SUMMARY:RHS Chelsea Flower Show 2026
DESCRIPTION:Experience cutting-edge garden design\, spectacular floral displays\, and plant innovations across the Chelsea showground. Ideal for trend-spotting and inspiration for home gardens.
URL:https://plantrella.com/garden-event/rhs-chelsea-flower-show-2026/
LOCATION:Royal Hospital Chelsea\, Royal Hospital Rd\, London\, Greater London\, SW3 4SR
CATEGORIES:Garden Events
END:VEVENT
END:VCALENDAR